BEGIN:VCALENDAR
VERSION:2.0
PRODID:Park City, UT Calendar Creator
METHOD:PUBLISH
BEGIN:VEVENT
DTSTAMP:20201207T125120
DTSTART:20201218T120000
DTEND:20201218T130000
SUMMARY:Planning Department Administrative Hearing
DESCRIPTION:<p><a href="https://d3n9y02raazwpg.cloudfront.net/parkcity/e40817c9-35ac-11eb-bc32-0050569183fa-c4068590-9596-4beb-bbf4-f1687d834ed4-1607370539.pdf" target="_blank">Administrative Hearing Packet</a>&nbsp;</p><p>Zoom Meeting Information </p><p>URL: <a href="https://us02web.zoom.us/j/82031152016" target="_blank">https://us02web.zoom.us/j/82031152016 Meeting ID: 820 3115 2016</a> </p><p>Meeting Date: December 18, 2020* Meeting Time: 12:00pm MST</p>
X-ALT-DESC;FMTTYPE=text/html:<p><a href="https://d3n9y02raazwpg.cloudfront.net/parkcity/e40817c9-35ac-11eb-bc32-0050569183fa-c4068590-9596-4beb-bbf4-f1687d834ed4-1607370539.pdf" target="_blank">Administrative Hearing Packet</a>&nbsp;</p><p>Zoom Meeting Information </p><p>URL: <a href="https://us02web.zoom.us/j/82031152016" target="_blank">https://us02web.zoom.us/j/82031152016 Meeting ID: 820 3115 2016</a> </p><p>Meeting Date: December 18, 2020* Meeting Time: 12:00pm MST</p>
LOCATION:
CLASS:PUBLIC
END:VEVENT
END:VCALENDAR
