BEGIN:VCALENDAR
VERSION:2.0
PRODID:Park City, UT Calendar Creator
METHOD:PUBLISH
BEGIN:VEVENT
DTSTAMP:20210212T131346
DTSTART:20210106T170000
DTEND:20210106T210000
SUMMARY:Historic Preservation Board
DESCRIPTION:<p><a href="https://www.parkcity.gov/home/showpublisheddocument/69512/637441642600270000" target="_blank">HPB Legal Notice 01.06.2021</a><br><a href="https://granicus_production_attachments.s3.amazonaws.com/parkcity/c9c54f2be7f59e9799b16f3b0a8b50ff0.pdf" target="_blank">HPB Agenda 01.06.2021</a><br><a href="https://d3n9y02raazwpg.cloudfront.net/parkcity/f15da91a-359d-11eb-bc32-0050569183fa-c4068590-9596-4beb-bbf4-f1687d834ed4-1609772608.pdf" target="_blank">HPB Packet 01.06.2021</a><br><a href="https://parkcity.granicus.com/DocumentViewer.php?file=parkcity_ba228772fa268a0186b091597317b49d.pdf&amp;view=1" target="_blank">HPB Minutes 01.06.2021</a></p><p>&nbsp;</p><p>Zoom Participation Link: <a href="https://us02web.zoom.us/j/84112477017">https://us02web.zoom.us/j/84112477017</a></p><p>Or iPhone one-tap : </p><ul>    <li>US: +12532158782,,84112477017#&nbsp; or +13462487799,,84112477017# </li></ul><p>Or Telephone:</p><p> </p><ul>    <li>US: +1 253 215 8782&nbsp; or +1 346 248 7799&nbsp; or +1 669 900 6833&nbsp; or +1 301 715 8592&nbsp; or +1 312 626 6799&nbsp; or +1 929 205 6099 </li></ul><p>Webinar ID: 841 1247 7017</p><p>&nbsp;</p>
X-ALT-DESC;FMTTYPE=text/html:<p><a href="https://www.parkcity.gov/home/showpublisheddocument/69512/637441642600270000" target="_blank">HPB Legal Notice 01.06.2021</a><br><a href="https://granicus_production_attachments.s3.amazonaws.com/parkcity/c9c54f2be7f59e9799b16f3b0a8b50ff0.pdf" target="_blank">HPB Agenda 01.06.2021</a><br><a href="https://d3n9y02raazwpg.cloudfront.net/parkcity/f15da91a-359d-11eb-bc32-0050569183fa-c4068590-9596-4beb-bbf4-f1687d834ed4-1609772608.pdf" target="_blank">HPB Packet 01.06.2021</a><br><a href="https://parkcity.granicus.com/DocumentViewer.php?file=parkcity_ba228772fa268a0186b091597317b49d.pdf&amp;view=1" target="_blank">HPB Minutes 01.06.2021</a></p><p>&nbsp;</p><p>Zoom Participation Link: <a href="https://us02web.zoom.us/j/84112477017">https://us02web.zoom.us/j/84112477017</a></p><p>Or iPhone one-tap : </p><ul>    <li>US: +12532158782,,84112477017#&nbsp; or +13462487799,,84112477017# </li></ul><p>Or Telephone:</p><p> </p><ul>    <li>US: +1 253 215 8782&nbsp; or +1 346 248 7799&nbsp; or +1 669 900 6833&nbsp; or +1 301 715 8592&nbsp; or +1 312 626 6799&nbsp; or +1 929 205 6099 </li></ul><p>Webinar ID: 841 1247 7017</p><p>&nbsp;</p>
LOCATION:
CLASS:PUBLIC
END:VEVENT
END:VCALENDAR
