BEGIN:VCALENDAR
VERSION:2.0
PRODID:Park City, UT Calendar Creator
METHOD:PUBLISH
BEGIN:VEVENT
DTSTAMP:20211129T132147
DTSTART:20211201T170000
DTEND:20211201T210000
SUMMARY:Historic Preservation Board Meeting
DESCRIPTION:<p><a href="https://www.parkcity.gov/home/showpublisheddocument/71066/637729202625470000" target="_blank">12.01.2021 Legal Notice</a>&nbsp;- Meeting Cancellation</p>
X-ALT-DESC;FMTTYPE=text/html:<p><a href="https://www.parkcity.gov/home/showpublisheddocument/71066/637729202625470000" target="_blank">12.01.2021 Legal Notice</a>&nbsp;- Meeting Cancellation</p>
LOCATION:
CLASS:PUBLIC
END:VEVENT
END:VCALENDAR
