BEGIN:VCALENDAR
VERSION:2.0
PRODID:Park City, UT Calendar Creator
METHOD:PUBLISH
BEGIN:VEVENT
DTSTAMP:20210120T162956
DTSTART:20210125T120000
DTEND:20210125T130000
SUMMARY:Planning Department Administrative Hearing PL-20-04719
DESCRIPTION:<p><a href="https://www.parkcity.gov/home/showpublisheddocument/69584/637462350944000000" target="_blank">Legal Notice</a></p><p><a href="https://d3n9y02raazwpg.cloudfront.net/parkcity/751c4f18-5b6e-11eb-920e-0050569183fa-498f0572-cec6-4358-a08d-4ae1e1ac1484-1611185083.pdf" target="_blank">Public Hearing Agenda, Report, and Exhibits</a></p><p>&nbsp;</p><p>&nbsp;</p>
X-ALT-DESC;FMTTYPE=text/html:<p><a href="https://www.parkcity.gov/home/showpublisheddocument/69584/637462350944000000" target="_blank">Legal Notice</a></p><p><a href="https://d3n9y02raazwpg.cloudfront.net/parkcity/751c4f18-5b6e-11eb-920e-0050569183fa-498f0572-cec6-4358-a08d-4ae1e1ac1484-1611185083.pdf" target="_blank">Public Hearing Agenda, Report, and Exhibits</a></p><p>&nbsp;</p><p>&nbsp;</p>
LOCATION:
CLASS:PUBLIC
END:VEVENT
END:VCALENDAR
