BEGIN:VCALENDAR
VERSION:2.0
PRODID:Park City, UT Calendar Creator
METHOD:PUBLISH
BEGIN:VEVENT
DTSTAMP:20211122T103712
DTSTART:20210526T173000
DTEND:20210526T213000
SUMMARY:Planning Commission Meeting - CANCELLED
DESCRIPTION:<p><b>PARK CITY MUNICIPAL CORPORATION</b><b><br>PLANNING COMMISSION<br></b>MEETING CANCELLATION <b>&nbsp;</b><br>Wednesday, May 26, 2021</p><p><strong>ATTENTION</strong></p><p>THIS MEETING HAS BEEN CANCELLED.</p>
X-ALT-DESC;FMTTYPE=text/html:<p><b>PARK CITY MUNICIPAL CORPORATION</b><b><br>PLANNING COMMISSION<br></b>MEETING CANCELLATION <b>&nbsp;</b><br>Wednesday, May 26, 2021</p><p><strong>ATTENTION</strong></p><p>THIS MEETING HAS BEEN CANCELLED.</p>
LOCATION:
CLASS:PUBLIC
END:VEVENT
END:VCALENDAR
