BEGIN:VCALENDAR
VERSION:2.0
PRODID:Park City, UT Calendar Creator
METHOD:PUBLISH
BEGIN:VEVENT
DTSTAMP:20210324T143352
DTSTART:20210324T000000
DTEND:20210423T170000
SUMMARY:Community Wildfire Preparedness Plan
DESCRIPTION:<a href="https://www.parkcity.org/government/city-council/city-council-meetings/current-city-council-meeting-info-listen-live" target="_blank"></a><p>Notice of Opportunity to Submit Public Comment</p><p>Date:&nbsp;&nbsp; 03/24/2021 – 04/24/2021 5:00 PM</p><p>&nbsp;</p><p>Location:&nbsp; Online at <a href="http://www.bereadyparkcity.org/">www.BeReadyParkCity.org</a></p><p>&nbsp;</p><p>&nbsp;</p><p align="center">NOTICE OF OPPORTUNITY TO SUBMIT PUBLIC COMMENT</p><p align="center">&nbsp;</p><p align="center">PARK CITY MUNICIPAL CORPORATION COMMUNITY WILDFIRE PREPAREDNESS PLAN (CWPP)</p><p>&nbsp;</p><p>Public comments on the ‘COMMUNITY WILDFIRE PREPAREDNESS PLAN – FINAL DRAFT’ are now being accepted via the ‘Submit a Question or Feedback’ online form located at <a href="http://www.bereadyparkcity.org/">www.bereadyparkcity.org</a></p><p>&nbsp;</p><p>The final draft of the CWPP and associated appendices can be reviewed at <a href="http://www.bereadyparkcity.org/">www.bereadyparkcity.org</a></p>
X-ALT-DESC;FMTTYPE=text/html:<a href="https://www.parkcity.org/government/city-council/city-council-meetings/current-city-council-meeting-info-listen-live" target="_blank"></a><p>Notice of Opportunity to Submit Public Comment</p><p>Date:&nbsp;&nbsp; 03/24/2021 – 04/24/2021 5:00 PM</p><p>&nbsp;</p><p>Location:&nbsp; Online at <a href="http://www.bereadyparkcity.org/">www.BeReadyParkCity.org</a></p><p>&nbsp;</p><p>&nbsp;</p><p align="center">NOTICE OF OPPORTUNITY TO SUBMIT PUBLIC COMMENT</p><p align="center">&nbsp;</p><p align="center">PARK CITY MUNICIPAL CORPORATION COMMUNITY WILDFIRE PREPAREDNESS PLAN (CWPP)</p><p>&nbsp;</p><p>Public comments on the ‘COMMUNITY WILDFIRE PREPAREDNESS PLAN – FINAL DRAFT’ are now being accepted via the ‘Submit a Question or Feedback’ online form located at <a href="http://www.bereadyparkcity.org/">www.bereadyparkcity.org</a></p><p>&nbsp;</p><p>The final draft of the CWPP and associated appendices can be reviewed at <a href="http://www.bereadyparkcity.org/">www.bereadyparkcity.org</a></p>
LOCATION:Park City Police Department\, 2060 Park Avenue Park City\, Utah 84060
CLASS:PUBLIC
END:VEVENT
END:VCALENDAR
