BEGIN:VCALENDAR
VERSION:2.0
PRODID:Park City, UT Calendar Creator
METHOD:PUBLISH
BEGIN:VEVENT
DTSTAMP:20210326T134703
DTSTART:20210408T120000
DTEND:20210408T130000
SUMMARY:Planning Department Administrative Hearing
DESCRIPTION:<a href="https://www.parkcity.gov/home/showpublisheddocument/69732/637523632155930000" target="_blank">3.24.21 Legal Notice</a>
X-ALT-DESC;FMTTYPE=text/html:<a href="https://www.parkcity.gov/home/showpublisheddocument/69732/637523632155930000" target="_blank">3.24.21 Legal Notice</a>
LOCATION:
CLASS:PUBLIC
END:VEVENT
END:VCALENDAR
