BEGIN:VCALENDAR
VERSION:2.0
PRODID:Park City, UT Calendar Creator
METHOD:PUBLISH
BEGIN:VEVENT
DTSTAMP:20210329T132957
DTSTART:20210330T150000
DTEND:20210330T160000
SUMMARY:UAV Flight
DESCRIPTION:<p>Location: Three Kings Water Treatment Plant &amp; PC Golf Course</p><p>Duration: 1 Hour</p><p>Contact: Drone@parkcity.org</p>
X-ALT-DESC;FMTTYPE=text/html:<p>Location: Three Kings Water Treatment Plant &amp; PC Golf Course</p><p>Duration: 1 Hour</p><p>Contact: Drone@parkcity.org</p>
LOCATION:
CLASS:PUBLIC
END:VEVENT
END:VCALENDAR
