BEGIN:VCALENDAR
VERSION:2.0
PRODID:Park City, UT Calendar Creator
METHOD:PUBLISH
BEGIN:VEVENT
DTSTAMP:20210503T090826
DTSTART:20210505T120000
DTEND:20210505T130000
SUMMARY:UAV Flight
DESCRIPTION:<p>Location: 3 Kings Water Treatment Plant and PC golf course</p><p>Duration: 1 hour</p><p>Contact: Drone@parkcity.org or visit&nbsp;<a href="https://www.parkcity.org/drone-info" target="_blank">https://www.parkcity.org/drone-info</a></p><p>&nbsp;</p><p>&nbsp;</p>
X-ALT-DESC;FMTTYPE=text/html:<p>Location: 3 Kings Water Treatment Plant and PC golf course</p><p>Duration: 1 hour</p><p>Contact: Drone@parkcity.org or visit&nbsp;<a href="https://www.parkcity.org/drone-info" target="_blank">https://www.parkcity.org/drone-info</a></p><p>&nbsp;</p><p>&nbsp;</p>
LOCATION:
CLASS:PUBLIC
END:VEVENT
END:VCALENDAR
