BEGIN:VCALENDAR
VERSION:2.0
PRODID:Park City, UT Calendar Creator
METHOD:PUBLISH
BEGIN:VEVENT
DTSTAMP:20210526T104939
DTSTART:20210527T120000
DTEND:20210527T130000
SUMMARY:UAV Flight
DESCRIPTION:<p>Location: Bonanza Flat (Empire Pass Trailhead, Bonanza Flat Trailhead, Bloods Lake Trailhead &amp; Guardsman Pass Overlook)</p><p>Duration: 1 hour</p><p>Contact: Drone@parkcity.org or visit&nbsp;<a href="https://www.parkcity.org/drone-info" target="_blank">https://www.parkcity.org/drone-info</a></p>
X-ALT-DESC;FMTTYPE=text/html:<p>Location: Bonanza Flat (Empire Pass Trailhead, Bonanza Flat Trailhead, Bloods Lake Trailhead &amp; Guardsman Pass Overlook)</p><p>Duration: 1 hour</p><p>Contact: Drone@parkcity.org or visit&nbsp;<a href="https://www.parkcity.org/drone-info" target="_blank">https://www.parkcity.org/drone-info</a></p>
LOCATION:
CLASS:PUBLIC
END:VEVENT
END:VCALENDAR
