BEGIN:VCALENDAR
VERSION:2.0
PRODID:Park City, UT Calendar Creator
METHOD:PUBLISH
BEGIN:VEVENT
DTSTAMP:20210610T141722
DTSTART:20210611T100000
DTEND:20210611T110000
SUMMARY:UAV Flight
DESCRIPTION:<p>Location: 3821 Kearns Boulevard</p><p>Duration: 1 hour</p><p>Contact: Drone@parkcity.org or visit&nbsp;<a href="https://www.parkcity.org/drone-info" target="_blank">https://www.parkcity.org/drone-info</a></p>
X-ALT-DESC;FMTTYPE=text/html:<p>Location: 3821 Kearns Boulevard</p><p>Duration: 1 hour</p><p>Contact: Drone@parkcity.org or visit&nbsp;<a href="https://www.parkcity.org/drone-info" target="_blank">https://www.parkcity.org/drone-info</a></p>
LOCATION:
CLASS:PUBLIC
END:VEVENT
END:VCALENDAR
