BEGIN:VCALENDAR
VERSION:2.0
PRODID:Park City, UT Calendar Creator
METHOD:PUBLISH
BEGIN:VEVENT
DTSTAMP:20210628T215740
DTSTART:20210629T130000
DTEND:20210629T140000
SUMMARY:UAV Flight
DESCRIPTION:<p>Location: 3 Kings Water Treatment Plant</p><p>Duration: 1 hour</p><p>Contact: <a href="mailto:&#68;&#114;&#111;&#110;&#101;&#64;&#112;&#97;&#114;&#107;&#99;&#105;&#116;&#121;&#46;&#111;&#114;&#103;">Drone@parkcity.org</a> or visit&nbsp;<a href="https://www.parkcity.org/drone-info" target="_blank">https://www.parkcity.org/drone-info</a></p>
X-ALT-DESC;FMTTYPE=text/html:<p>Location: 3 Kings Water Treatment Plant</p><p>Duration: 1 hour</p><p>Contact: <a href="mailto:&#68;&#114;&#111;&#110;&#101;&#64;&#112;&#97;&#114;&#107;&#99;&#105;&#116;&#121;&#46;&#111;&#114;&#103;">Drone@parkcity.org</a> or visit&nbsp;<a href="https://www.parkcity.org/drone-info" target="_blank">https://www.parkcity.org/drone-info</a></p>
LOCATION:
CLASS:PUBLIC
END:VEVENT
END:VCALENDAR
