BEGIN:VCALENDAR
VERSION:2.0
PRODID:Park City, UT Calendar Creator
METHOD:PUBLISH
BEGIN:VEVENT
DTSTAMP:20210630T114959
DTSTART:20210706T080000
DTEND:20210706T090000
SUMMARY:UAV Flight
DESCRIPTION:<p>Location: SR248 (Between Round Valley Dr and Richardson Flat Rd)</p><p>Duration: 1hr</p><p>Contact: Drone@parkcity.org&nbsp;or visit&nbsp;<a href="https://www.parkcity.org/drone-info" target="_blank">https://www.parkcity.org/drone-info</a></p>
X-ALT-DESC;FMTTYPE=text/html:<p>Location: SR248 (Between Round Valley Dr and Richardson Flat Rd)</p><p>Duration: 1hr</p><p>Contact: Drone@parkcity.org&nbsp;or visit&nbsp;<a href="https://www.parkcity.org/drone-info" target="_blank">https://www.parkcity.org/drone-info</a></p>
LOCATION:
CLASS:PUBLIC
END:VEVENT
END:VCALENDAR
