BEGIN:VCALENDAR
VERSION:2.0
PRODID:Park City, UT Calendar Creator
METHOD:PUBLISH
BEGIN:VEVENT
DTSTAMP:20210712T215509
DTSTART:20210715T120000
DTEND:20210715T235900
SUMMARY:Planning Department Administrative Public Hearing
DESCRIPTION:<p><a href="https://www.parkcity.gov/home/showpublisheddocument/70429/637606635205630000" target="_blank">Administrative Public Hearing</a></p><p><a href="https://d3n9y02raazwpg.cloudfront.net/parkcity/6b5d4b5e-d849-11eb-9c7a-0050569183fa-12052f59-18c8-46b7-82f4-d029adf73a50-1626148062.pdf" target="_blank">&nbsp;Published Agenda and Packet&nbsp;</a></p>
X-ALT-DESC;FMTTYPE=text/html:<p><a href="https://www.parkcity.gov/home/showpublisheddocument/70429/637606635205630000" target="_blank">Administrative Public Hearing</a></p><p><a href="https://d3n9y02raazwpg.cloudfront.net/parkcity/6b5d4b5e-d849-11eb-9c7a-0050569183fa-12052f59-18c8-46b7-82f4-d029adf73a50-1626148062.pdf" target="_blank">&nbsp;Published Agenda and Packet&nbsp;</a></p>
LOCATION:
CLASS:PUBLIC
END:VEVENT
END:VCALENDAR
