BEGIN:VCALENDAR
VERSION:2.0
PRODID:Park City, UT Calendar Creator
METHOD:PUBLISH
BEGIN:VEVENT
DTSTAMP:20210709T155512
DTSTART:20210715T090000
DTEND:20210715T170000
SUMMARY:UAV Flight
DESCRIPTION:<p>Location: </p><ul>    <li>    <p>8680 Empire Club&nbsp;</p>    </li>    <li>    <p>8910 Empire Club </p>    <p>&nbsp;</p>    </li>    <li>    <p>6702 Stein Circle</p>    <p>&nbsp;</p>    </li>    <li>    <p>1825 Three Kings Court</p>    <p>&nbsp;</p>    </li>    <li>    <p>2468 Piper Way</p>    <p>&nbsp;</p>    </li>    <li>    <p>900 Round Valley Drive</p>    <p>&nbsp;</p>    </li>    <li>    <p>1271 Lowell Ave Building B and Building C</p>    <p>&nbsp;</p>    </li>    <li>    <p>1791 Prospector</p>    <p>&nbsp;</p>    </li>    <li>    <p>1795 Prospector</p>    </li></ul><p>Duration: ALL DAY</p><p>Contact: Drone@parkcity.org&nbsp;or visit&nbsp;<a href="https://www.parkcity.org/drone-info" target="_blank">https://www.parkcity.org/drone-info</a></p>
X-ALT-DESC;FMTTYPE=text/html:<p>Location: </p><ul>    <li>    <p>8680 Empire Club&nbsp;</p>    </li>    <li>    <p>8910 Empire Club </p>    <p>&nbsp;</p>    </li>    <li>    <p>6702 Stein Circle</p>    <p>&nbsp;</p>    </li>    <li>    <p>1825 Three Kings Court</p>    <p>&nbsp;</p>    </li>    <li>    <p>2468 Piper Way</p>    <p>&nbsp;</p>    </li>    <li>    <p>900 Round Valley Drive</p>    <p>&nbsp;</p>    </li>    <li>    <p>1271 Lowell Ave Building B and Building C</p>    <p>&nbsp;</p>    </li>    <li>    <p>1791 Prospector</p>    <p>&nbsp;</p>    </li>    <li>    <p>1795 Prospector</p>    </li></ul><p>Duration: ALL DAY</p><p>Contact: Drone@parkcity.org&nbsp;or visit&nbsp;<a href="https://www.parkcity.org/drone-info" target="_blank">https://www.parkcity.org/drone-info</a></p>
LOCATION:
CLASS:PUBLIC
END:VEVENT
END:VCALENDAR
