BEGIN:VCALENDAR
VERSION:2.0
PRODID:Park City, UT Calendar Creator
METHOD:PUBLISH
BEGIN:VEVENT
DTSTAMP:20210729T231700
DTSTART:20210730T000000
DTEND:20210730T235900
SUMMARY:Planning Department Administrative Public Hearing
DESCRIPTION:<p><a href="https://www.parkcity.gov/home/showpublisheddocument/70480/637620242542200000" target="_blank">7.30.2021 HDDR Notice Posted</a></p><p>&nbsp;<a href="https://d3n9y02raazwpg.cloudfront.net/parkcity/afb2a6d2-eeec-11eb-81b1-0050569183fa-12052f59-18c8-46b7-82f4-d029adf73a50-1627621751.pdf" target="_blank">7.30.2021 Historic District Design Review Packet</a> </p>
X-ALT-DESC;FMTTYPE=text/html:<p><a href="https://www.parkcity.gov/home/showpublisheddocument/70480/637620242542200000" target="_blank">7.30.2021 HDDR Notice Posted</a></p><p>&nbsp;<a href="https://d3n9y02raazwpg.cloudfront.net/parkcity/afb2a6d2-eeec-11eb-81b1-0050569183fa-12052f59-18c8-46b7-82f4-d029adf73a50-1627621751.pdf" target="_blank">7.30.2021 Historic District Design Review Packet</a> </p>
LOCATION:
CLASS:PUBLIC
END:VEVENT
END:VCALENDAR
