BEGIN:VCALENDAR
VERSION:2.0
PRODID:Park City, UT Calendar Creator
METHOD:PUBLISH
BEGIN:VEVENT
DTSTAMP:20210720T094757
DTSTART:20210721T100000
DTEND:20210721T110000
SUMMARY:UAV Flight
DESCRIPTION:<p>Location: Three Kings Water Treatment Plant&nbsp;</p><p>Duration: 1Hr</p><p>Contact: Drone@parkcity.org&nbsp;or visit&nbsp;<a href="https://www.parkcity.org/drone-info" target="_blank">https://www.parkcity.org/drone-info</a></p>
X-ALT-DESC;FMTTYPE=text/html:<p>Location: Three Kings Water Treatment Plant&nbsp;</p><p>Duration: 1Hr</p><p>Contact: Drone@parkcity.org&nbsp;or visit&nbsp;<a href="https://www.parkcity.org/drone-info" target="_blank">https://www.parkcity.org/drone-info</a></p>
LOCATION:
CLASS:PUBLIC
END:VEVENT
END:VCALENDAR
