BEGIN:VCALENDAR
VERSION:2.0
PRODID:Park City, UT Calendar Creator
METHOD:PUBLISH
BEGIN:VEVENT
DTSTAMP:20210726T140454
DTSTART:20210729T120000
DTEND:20210729T130000
SUMMARY:Planning Department Administrative Public Hearing
DESCRIPTION:<p><a href="https://parkcity.granicus.com/DocumentViewer.php?file=parkcity_adebb6c37c6597041c79a4b874ce17f6.pdf&amp;view=1" target="_blank">Administrative Hearing Agenda</a></p><p><a href="https://d3n9y02raazwpg.cloudfront.net/parkcity/792049a4-e32d-11eb-b92a-0050569183fa-c4068590-9596-4beb-bbf4-f1687d834ed4-1627326664.pdf" target="_blank">Administrative Hearing Packet</a></p><p>&nbsp;</p>
X-ALT-DESC;FMTTYPE=text/html:<p><a href="https://parkcity.granicus.com/DocumentViewer.php?file=parkcity_adebb6c37c6597041c79a4b874ce17f6.pdf&amp;view=1" target="_blank">Administrative Hearing Agenda</a></p><p><a href="https://d3n9y02raazwpg.cloudfront.net/parkcity/792049a4-e32d-11eb-b92a-0050569183fa-c4068590-9596-4beb-bbf4-f1687d834ed4-1627326664.pdf" target="_blank">Administrative Hearing Packet</a></p><p>&nbsp;</p>
LOCATION:
CLASS:PUBLIC
END:VEVENT
END:VCALENDAR
