BEGIN:VCALENDAR
VERSION:2.0
PRODID:Park City, UT Calendar Creator
METHOD:PUBLISH
BEGIN:VEVENT
DTSTAMP:20211122T110033
DTSTART:20210804T160000
DTEND:20210804T170000
SUMMARY:Historic Preservation Board - Site Visit
DESCRIPTION:<a href="https://www.parkcity.gov/home/showpublisheddocument/70514/637635805416800000" target="_blank">HPB Legal Notice 08.04.2021 Site Visit</a>
X-ALT-DESC;FMTTYPE=text/html:<a href="https://www.parkcity.gov/home/showpublisheddocument/70514/637635805416800000" target="_blank">HPB Legal Notice 08.04.2021 Site Visit</a>
LOCATION:
CLASS:PUBLIC
END:VEVENT
END:VCALENDAR
