BEGIN:VCALENDAR
VERSION:2.0
PRODID:Park City, UT Calendar Creator
METHOD:PUBLISH
BEGIN:VEVENT
DTSTAMP:20210805T115544
DTSTART:20210805T120000
DTEND:20210805T235900
SUMMARY:Planning Department Administrative Public Hearing
DESCRIPTION:<p><a href="https://www.parkcity.gov/home/showpublisheddocument/70540/637637519497370000" target="_blank">Administrative Hearing&nbsp;- Packet</a></p><p><a href="https://www.parkcity.gov/home/showpublisheddocument/70538/637637518760670000" target="_blank">Administrative Hearing&nbsp;- Agenda</a></p><p>&nbsp;</p>
X-ALT-DESC;FMTTYPE=text/html:<p><a href="https://www.parkcity.gov/home/showpublisheddocument/70540/637637519497370000" target="_blank">Administrative Hearing&nbsp;- Packet</a></p><p><a href="https://www.parkcity.gov/home/showpublisheddocument/70538/637637518760670000" target="_blank">Administrative Hearing&nbsp;- Agenda</a></p><p>&nbsp;</p>
LOCATION:
CLASS:PUBLIC
END:VEVENT
END:VCALENDAR
