BEGIN:VCALENDAR
VERSION:2.0
PRODID:Park City, UT Calendar Creator
METHOD:PUBLISH
BEGIN:VEVENT
DTSTAMP:20210810T103818
DTSTART:20210810T120000
DTEND:20210810T235900
SUMMARY:Planning Department Administrative Public Hearing
DESCRIPTION:<p><a href="https://www.parkcity.gov/home/showpublisheddocument/70560/637641886528070000" target="_blank">PL-21-04878 - 327 McHenry Ave - Agenda</a></p><p><a href="https://www.parkcity.gov/home/showpublisheddocument/70562/637641886889570000" target="_blank">PL-21-04878 - 327 McHenry Ave - Packet</a></p><p>&nbsp;</p>
X-ALT-DESC;FMTTYPE=text/html:<p><a href="https://www.parkcity.gov/home/showpublisheddocument/70560/637641886528070000" target="_blank">PL-21-04878 - 327 McHenry Ave - Agenda</a></p><p><a href="https://www.parkcity.gov/home/showpublisheddocument/70562/637641886889570000" target="_blank">PL-21-04878 - 327 McHenry Ave - Packet</a></p><p>&nbsp;</p>
LOCATION:
CLASS:PUBLIC
END:VEVENT
END:VCALENDAR
