BEGIN:VCALENDAR
VERSION:2.0
PRODID:Park City, UT Calendar Creator
METHOD:PUBLISH
BEGIN:VEVENT
DTSTAMP:20210811T165812
DTSTART:20210812T120000
DTEND:20210812T235900
SUMMARY:Planning Department Administrative Public Hearing
DESCRIPTION:<p><a href="https://www.parkcity.gov/home/showpublisheddocument/70546/637637641043470000" target="_blank">Admin Hearing Packet 08.12.2021</a></p><p><a href="https://www.parkcity.gov/home/showpublisheddocument/70544/637637641041870000" target="_blank">Admin Hearing Agenda 08.12.2021</a></p><p>&nbsp;<a href="https://www.parkcity.gov/home/showpublisheddocument/70582/637642978458430000" target="_blank">8.12.2021-1058 Park Avenue Legal Notice</a></p><p>&nbsp;</p><p>Join Zoom Meeting</p><p><a href="https://us02web.zoom.us/j/87190121395">https://us02web.zoom.us/j/87190121395</a></p><p>Meeting ID: 871 9012 1395</p>
X-ALT-DESC;FMTTYPE=text/html:<p><a href="https://www.parkcity.gov/home/showpublisheddocument/70546/637637641043470000" target="_blank">Admin Hearing Packet 08.12.2021</a></p><p><a href="https://www.parkcity.gov/home/showpublisheddocument/70544/637637641041870000" target="_blank">Admin Hearing Agenda 08.12.2021</a></p><p>&nbsp;<a href="https://www.parkcity.gov/home/showpublisheddocument/70582/637642978458430000" target="_blank">8.12.2021-1058 Park Avenue Legal Notice</a></p><p>&nbsp;</p><p>Join Zoom Meeting</p><p><a href="https://us02web.zoom.us/j/87190121395">https://us02web.zoom.us/j/87190121395</a></p><p>Meeting ID: 871 9012 1395</p>
LOCATION:
CLASS:PUBLIC
END:VEVENT
END:VCALENDAR
