BEGIN:VCALENDAR
VERSION:2.0
PRODID:Park City, UT Calendar Creator
METHOD:PUBLISH
BEGIN:VEVENT
DTSTAMP:20210817T151524
DTSTART:20210819T120000
DTEND:20210819T235900
SUMMARY:Planning Department Administrative Public Hearing
DESCRIPTION:<p><a href="https://www.parkcity.gov/home/showpublisheddocument/70570/637642666063930000" target="_blank">08.19.2021 Legal Notice</a></p><p><a href="https://granicus_production_attachments.s3.amazonaws.com/parkcity/e20232051a2f38271856b6a9d784f85b0.pdf" target="_blank">08.19.2021 Agenda</a></p><p><a href="https://d3n9y02raazwpg.cloudfront.net/parkcity/74f0ecc2-e423-11eb-b92a-0050569183fa-c4068590-9596-4beb-bbf4-f1687d834ed4-1629152588.pdf" target="_blank">08.19.2021 Packet</a></p><p><a href="https://us02web.zoom.us/j/87540665026" target="_blank">Zoom Meeting Link</a></p><p>Zoom Meeting ID:&nbsp;875 4066 5026</p>
X-ALT-DESC;FMTTYPE=text/html:<p><a href="https://www.parkcity.gov/home/showpublisheddocument/70570/637642666063930000" target="_blank">08.19.2021 Legal Notice</a></p><p><a href="https://granicus_production_attachments.s3.amazonaws.com/parkcity/e20232051a2f38271856b6a9d784f85b0.pdf" target="_blank">08.19.2021 Agenda</a></p><p><a href="https://d3n9y02raazwpg.cloudfront.net/parkcity/74f0ecc2-e423-11eb-b92a-0050569183fa-c4068590-9596-4beb-bbf4-f1687d834ed4-1629152588.pdf" target="_blank">08.19.2021 Packet</a></p><p><a href="https://us02web.zoom.us/j/87540665026" target="_blank">Zoom Meeting Link</a></p><p>Zoom Meeting ID:&nbsp;875 4066 5026</p>
LOCATION:
CLASS:PUBLIC
END:VEVENT
END:VCALENDAR
