BEGIN:VCALENDAR
VERSION:2.0
PRODID:Park City, UT Calendar Creator
METHOD:PUBLISH
BEGIN:VEVENT
DTSTAMP:20210819T151619
DTSTART:20210824T120000
DTEND:20210824T235900
SUMMARY:Planning Department Administrative Public Hearing
DESCRIPTION:<p><a href="https://www.parkcity.gov/home/showpublisheddocument/70564/637641950877100000" target="_blank">327 McHenry Legal Notice</a></p><p><a href="https://granicus_production_attachments.s3.amazonaws.com/parkcity/e63a1b8e16d886d497c2729c6c89d2be0.pdf" target="_blank">327 McHenry Agenda</a></p><p><a href="https://d3n9y02raazwpg.cloudfront.net/parkcity/ebe7f03c-fa07-11eb-81b1-0050569183fa-c4068590-9596-4beb-bbf4-f1687d834ed4-1629404988.pdf" target="_blank">327 McHenry Packet</a></p><p><a href="https://us02web.zoom.us/j/89574731889" target="_blank">Zoom Meeting Link</a></p><p>Zoom Meeting ID:&nbsp;895 7473 188</p>
X-ALT-DESC;FMTTYPE=text/html:<p><a href="https://www.parkcity.gov/home/showpublisheddocument/70564/637641950877100000" target="_blank">327 McHenry Legal Notice</a></p><p><a href="https://granicus_production_attachments.s3.amazonaws.com/parkcity/e63a1b8e16d886d497c2729c6c89d2be0.pdf" target="_blank">327 McHenry Agenda</a></p><p><a href="https://d3n9y02raazwpg.cloudfront.net/parkcity/ebe7f03c-fa07-11eb-81b1-0050569183fa-c4068590-9596-4beb-bbf4-f1687d834ed4-1629404988.pdf" target="_blank">327 McHenry Packet</a></p><p><a href="https://us02web.zoom.us/j/89574731889" target="_blank">Zoom Meeting Link</a></p><p>Zoom Meeting ID:&nbsp;895 7473 188</p>
LOCATION:
CLASS:PUBLIC
END:VEVENT
END:VCALENDAR
