BEGIN:VCALENDAR
VERSION:2.0
PRODID:Park City, UT Calendar Creator
METHOD:PUBLISH
BEGIN:VEVENT
DTSTAMP:20210830T100333
DTSTART:20210831T120000
DTEND:20210831T235900
SUMMARY:Planning Department Administrative Public Hearing
DESCRIPTION:<p><a href="https://www.parkcity.gov/home/showpublisheddocument/70598/637648099165230000" target="_blank">PL-21-04753&nbsp;Administrative Hearing - 909 Woodside Avenue Legal Notice</a></p><p><a href="https://granicus_production_attachments.s3.amazonaws.com/parkcity/06c888ed17fbbf795e8d42bd0e507f5a0.pdf" target="_blank">PL-21-04753 909 Woodside Agenda</a></p><p><a href="https://d3n9y02raazwpg.cloudfront.net/parkcity/1439d626-ffa1-11eb-81b1-0050569183fa-c4068590-9596-4beb-bbf4-f1687d834ed4-1630339173.pdf" target="_blank">PL-21-04753 909 Woodside Packet</a></p><p><a href="https://us02web.zoom.us/j/88129274979" target="_blank">Zoom Meeting Link</a></p><p><a href="https://us02web.zoom.us/j/88129274979" target="_blank">&nbsp;</a>Zoom Meeting ID:&nbsp;881 2927 4979</p><p>&nbsp;</p>
X-ALT-DESC;FMTTYPE=text/html:<p><a href="https://www.parkcity.gov/home/showpublisheddocument/70598/637648099165230000" target="_blank">PL-21-04753&nbsp;Administrative Hearing - 909 Woodside Avenue Legal Notice</a></p><p><a href="https://granicus_production_attachments.s3.amazonaws.com/parkcity/06c888ed17fbbf795e8d42bd0e507f5a0.pdf" target="_blank">PL-21-04753 909 Woodside Agenda</a></p><p><a href="https://d3n9y02raazwpg.cloudfront.net/parkcity/1439d626-ffa1-11eb-81b1-0050569183fa-c4068590-9596-4beb-bbf4-f1687d834ed4-1630339173.pdf" target="_blank">PL-21-04753 909 Woodside Packet</a></p><p><a href="https://us02web.zoom.us/j/88129274979" target="_blank">Zoom Meeting Link</a></p><p><a href="https://us02web.zoom.us/j/88129274979" target="_blank">&nbsp;</a>Zoom Meeting ID:&nbsp;881 2927 4979</p><p>&nbsp;</p>
LOCATION:
CLASS:PUBLIC
END:VEVENT
END:VCALENDAR
