BEGIN:VCALENDAR
VERSION:2.0
PRODID:Park City, UT Calendar Creator
METHOD:PUBLISH
BEGIN:VEVENT
DTSTAMP:20210920T095957
DTSTART:20210902T120000
DTEND:20210902T235900
SUMMARY:Planning Department Administrative Public Hearing
DESCRIPTION:<p><a href="https://www.parkcity.gov/home/showpublisheddocument/70749/637677250682970000" target="_blank">09.02.2021 Legal Notice</a></p><p><a href="https://granicus_production_attachments.s3.amazonaws.com/parkcity/069a3309f8090c649ca81e1f3c570b420.pdf" target="_blank">09.02.2021Meeting Agenda</a></p><p><a href="https://d3n9y02raazwpg.cloudfront.net/parkcity/245481bd-01f9-11ec-81b1-0050569183fa-c4068590-9596-4beb-bbf4-f1687d834ed4-1630605037.pdf" target="_blank">09.02.2021 Meeting Packet</a></p><p><a href="https://us02web.zoom.us/j/86535858045" target="_blank">Zoom Meeting Link</a></p><p>Meeting ID:&nbsp;865 3585 8045</p>
X-ALT-DESC;FMTTYPE=text/html:<p><a href="https://www.parkcity.gov/home/showpublisheddocument/70749/637677250682970000" target="_blank">09.02.2021 Legal Notice</a></p><p><a href="https://granicus_production_attachments.s3.amazonaws.com/parkcity/069a3309f8090c649ca81e1f3c570b420.pdf" target="_blank">09.02.2021Meeting Agenda</a></p><p><a href="https://d3n9y02raazwpg.cloudfront.net/parkcity/245481bd-01f9-11ec-81b1-0050569183fa-c4068590-9596-4beb-bbf4-f1687d834ed4-1630605037.pdf" target="_blank">09.02.2021 Meeting Packet</a></p><p><a href="https://us02web.zoom.us/j/86535858045" target="_blank">Zoom Meeting Link</a></p><p>Meeting ID:&nbsp;865 3585 8045</p>
LOCATION:
CLASS:PUBLIC
END:VEVENT
END:VCALENDAR
