BEGIN:VCALENDAR
VERSION:2.0
PRODID:Park City, UT Calendar Creator
METHOD:PUBLISH
BEGIN:VEVENT
DTSTAMP:20210901T164319
DTSTART:20210902T100000
DTEND:20210902T110000
SUMMARY:Forestry Advisory Board Meeting
DESCRIPTION:<p><b>Purpose &amp; Product:</b>&nbsp; &nbsp;To study,&nbsp;investigate, counsel, formulate, develop and/or update, and administer a Community Forestry Plan ("Forestry Plan") for the care, preservation, pruning, planting, replanting, removal or disposition of trees and shrubs in parks, along streets, and in other public places. </p>
X-ALT-DESC;FMTTYPE=text/html:<p><b>Purpose &amp; Product:</b>&nbsp; &nbsp;To study,&nbsp;investigate, counsel, formulate, develop and/or update, and administer a Community Forestry Plan ("Forestry Plan") for the care, preservation, pruning, planting, replanting, removal or disposition of trees and shrubs in parks, along streets, and in other public places. </p>
LOCATION:
CLASS:PUBLIC
END:VEVENT
END:VCALENDAR
