BEGIN:VCALENDAR
VERSION:2.0
PRODID:Park City, UT Calendar Creator
METHOD:PUBLISH
BEGIN:VEVENT
DTSTAMP:20210922T092030
DTSTART:20210923T120000
DTEND:20210923T125900
SUMMARY:Planning Department Administrative Hearing
DESCRIPTION:<p><a href="https://www.parkcity.gov/home/showpublisheddocument/70749/637677250682970000" target="_blank">09.23.2021 - Admin Hearing Legal Notice</a></p><p><a href="https://granicus_production_attachments.s3.amazonaws.com/parkcity/554ca3fc922105d8f38de9ee172623020.pdf" target="_blank">09.23.2021 - Admin Hearing Agenda</a></p><p><a href="https://d3n9y02raazwpg.cloudfront.net/parkcity/3c6e1e50-158d-11ec-9f1e-0050569183fa-a3c3bd95-7a61-46ba-b25a-d50b1b86ddcf-1632237285.pdf" target="_blank">09.23.2021 - Admin Hearing Packet</a></p><p><a href="https://us02web.zoom.us/j/84988103191" target="_blank">Zoom Meeting Link</a></p><p>Meeting ID:&nbsp;849 8810 3191</p>
X-ALT-DESC;FMTTYPE=text/html:<p><a href="https://www.parkcity.gov/home/showpublisheddocument/70749/637677250682970000" target="_blank">09.23.2021 - Admin Hearing Legal Notice</a></p><p><a href="https://granicus_production_attachments.s3.amazonaws.com/parkcity/554ca3fc922105d8f38de9ee172623020.pdf" target="_blank">09.23.2021 - Admin Hearing Agenda</a></p><p><a href="https://d3n9y02raazwpg.cloudfront.net/parkcity/3c6e1e50-158d-11ec-9f1e-0050569183fa-a3c3bd95-7a61-46ba-b25a-d50b1b86ddcf-1632237285.pdf" target="_blank">09.23.2021 - Admin Hearing Packet</a></p><p><a href="https://us02web.zoom.us/j/84988103191" target="_blank">Zoom Meeting Link</a></p><p>Meeting ID:&nbsp;849 8810 3191</p>
LOCATION:
CLASS:PUBLIC
END:VEVENT
END:VCALENDAR
