BEGIN:VCALENDAR
VERSION:2.0
PRODID:Park City, UT Calendar Creator
METHOD:PUBLISH
BEGIN:VEVENT
DTSTAMP:20210929T151108
DTSTART:20210930T180000
DTEND:20210930T193000
SUMMARY:Parleys Canyon Fire Community Panel
DESCRIPTION:<h2>Parleys Canyon Fire Community Panel</h2><h4>Thursday, September 30 | 6:00-7:30 p.m. | Santy Auditorium (1255 Park Avenue)</h4><p>Summit County and Park City are hosting a community panel with first responders and officials to recap the Parleys Canyon Fire response. Public Q&amp;A will follow the discussion. Join us in person at the Santy Auditorium or watch on Zoom: </p><ul>    <li><a href="https://summitcountyut.zoom.us/j/98092432069">https://summitcountyut.zoom.us/j/98092432069</a> (Webinar ID: 980 9243 2069)<b><br>    </b></li></ul><p>Agenda:</p><ul>    <li>Timeline of events and response</li>    <li>Agency observations and lessons learned</li>    <li>Community preparedness from Emergency Response representatives from Summit County and Park City    <ul>        <li>Defensible space/home hardening</li>        <li>72-hour kits and emergency communications plan</li>        <li>Evacuation plan and notifications</li>    </ul>    </li>    <li>Q&amp;A discussion</li></ul><br>
X-ALT-DESC;FMTTYPE=text/html:<h2>Parleys Canyon Fire Community Panel</h2><h4>Thursday, September 30 | 6:00-7:30 p.m. | Santy Auditorium (1255 Park Avenue)</h4><p>Summit County and Park City are hosting a community panel with first responders and officials to recap the Parleys Canyon Fire response. Public Q&amp;A will follow the discussion. Join us in person at the Santy Auditorium or watch on Zoom: </p><ul>    <li><a href="https://summitcountyut.zoom.us/j/98092432069">https://summitcountyut.zoom.us/j/98092432069</a> (Webinar ID: 980 9243 2069)<b><br>    </b></li></ul><p>Agenda:</p><ul>    <li>Timeline of events and response</li>    <li>Agency observations and lessons learned</li>    <li>Community preparedness from Emergency Response representatives from Summit County and Park City    <ul>        <li>Defensible space/home hardening</li>        <li>72-hour kits and emergency communications plan</li>        <li>Evacuation plan and notifications</li>    </ul>    </li>    <li>Q&amp;A discussion</li></ul><br>
LOCATION:Park City Library - Santy Auditorium\, 1255 Park Ave Park City\, UT\, Utah 84060
CLASS:PUBLIC
END:VEVENT
END:VCALENDAR
