BEGIN:VCALENDAR
VERSION:2.0
PRODID:Park City, UT Calendar Creator
METHOD:PUBLISH
BEGIN:VEVENT
DTSTAMP:20210928T113426
DTSTART:20211005T170000
DTEND:20211005T180000
SUMMARY:Spiro Tunnel Ribbon Cutting
DESCRIPTION:<p>The City, in partnership with Park City Museum’s Friends of SkiMountain Mining History, invites the community to celebrate the restorationof the historic Spiro Mine Tunnel and construction of a plaza that honors Park City’scolorful mining history.</p><ul>    <li>Tuesday, October 5 | 5:00-6:00 p.m.</li>    <li>Silver Star Plaza (Silver Star Drive)</li></ul><p>Ribbon cutting and remarks followed by mine tours and refreshments.</p><p>Parking is limited. Please consider walking, biking, or taking Park City Transit (Green Line). Visit <a href="https://www.parkcity.org/departments/transit-bus" target="_blank">parkcitytransit.org</a> for details.</p><p><em>Close-toed shoes and masks are encouraged.</em></p><p><em>Pursuant to the Americans with Disabilities Act, individuals needing special accommodations during the event should contact Linda Jager at 435.615.5189 or linda.jager@parkcity.org at least 24 hours prior to the event. </em></p><p><span style="font-size: 12pt;">View the full invitation <a href="https://www.parkcity.gov/home/showpublisheddocument/70775/637680092753200000" target="_blank" title="You are invited to celebrate Spiro Mine Tunnel Restoration">here</a>.</span></p>
X-ALT-DESC;FMTTYPE=text/html:<p>The City, in partnership with Park City Museum’s Friends of SkiMountain Mining History, invites the community to celebrate the restorationof the historic Spiro Mine Tunnel and construction of a plaza that honors Park City’scolorful mining history.</p><ul>    <li>Tuesday, October 5 | 5:00-6:00 p.m.</li>    <li>Silver Star Plaza (Silver Star Drive)</li></ul><p>Ribbon cutting and remarks followed by mine tours and refreshments.</p><p>Parking is limited. Please consider walking, biking, or taking Park City Transit (Green Line). Visit <a href="https://www.parkcity.org/departments/transit-bus" target="_blank">parkcitytransit.org</a> for details.</p><p><em>Close-toed shoes and masks are encouraged.</em></p><p><em>Pursuant to the Americans with Disabilities Act, individuals needing special accommodations during the event should contact Linda Jager at 435.615.5189 or linda.jager@parkcity.org at least 24 hours prior to the event. </em></p><p><span style="font-size: 12pt;">View the full invitation <a href="https://www.parkcity.gov/home/showpublisheddocument/70775/637680092753200000" target="_blank" title="You are invited to celebrate Spiro Mine Tunnel Restoration">here</a>.</span></p>
LOCATION:
CLASS:PUBLIC
END:VEVENT
END:VCALENDAR
