BEGIN:VCALENDAR
VERSION:2.0
PRODID:Park City, UT Calendar Creator
METHOD:PUBLISH
BEGIN:VEVENT
DTSTAMP:20210928T174303
DTSTART:20211001T080000
DTEND:20211001T085900
SUMMARY:Planning Department Administrative Public Hearing
DESCRIPTION:<p><a href="https://www.parkcity.gov/home/showpublisheddocument/70777/637680113888130000" target="_blank">10.01.2021 Legal Notice</a></p><p><a href="https://granicus_production_attachments.s3.amazonaws.com/parkcity/2c4993343ba4d4db753d106854eb24a90.pdf" target="_blank">10.01.2021 Agenda</a></p><p><a href="https://d3n9y02raazwpg.cloudfront.net/parkcity/cd765704-1cb3-11ec-9f1e-0050569183fa-12052f59-18c8-46b7-82f4-d029adf73a50-1632872031.pdf" target="_blank">10.01.2021 Packet</a></p><p><a href="https://us02web.zoom.us/j/85908557044" target="_blank">Zoom Meeting Link</a></p><p>Meeting ID:&nbsp;859 0855 7044</p>
X-ALT-DESC;FMTTYPE=text/html:<p><a href="https://www.parkcity.gov/home/showpublisheddocument/70777/637680113888130000" target="_blank">10.01.2021 Legal Notice</a></p><p><a href="https://granicus_production_attachments.s3.amazonaws.com/parkcity/2c4993343ba4d4db753d106854eb24a90.pdf" target="_blank">10.01.2021 Agenda</a></p><p><a href="https://d3n9y02raazwpg.cloudfront.net/parkcity/cd765704-1cb3-11ec-9f1e-0050569183fa-12052f59-18c8-46b7-82f4-d029adf73a50-1632872031.pdf" target="_blank">10.01.2021 Packet</a></p><p><a href="https://us02web.zoom.us/j/85908557044" target="_blank">Zoom Meeting Link</a></p><p>Meeting ID:&nbsp;859 0855 7044</p>
LOCATION:
CLASS:PUBLIC
END:VEVENT
END:VCALENDAR
