BEGIN:VCALENDAR
VERSION:2.0
PRODID:Park City, UT Calendar Creator
METHOD:PUBLISH
BEGIN:VEVENT
DTSTAMP:20211122T092911
DTSTART:20211124T173000
DTEND:20211124T213000
SUMMARY:Planning Commission Meeting
DESCRIPTION:<p style="margin-left: 40px;"><a href="https://www.parkcity.gov/home/showpublisheddocument/71034/637722445635800000" target="_blank">11.24.2021 Legal Notice</a>&nbsp;- Meeting Cancelled</p>
X-ALT-DESC;FMTTYPE=text/html:<p style="margin-left: 40px;"><a href="https://www.parkcity.gov/home/showpublisheddocument/71034/637722445635800000" target="_blank">11.24.2021 Legal Notice</a>&nbsp;- Meeting Cancelled</p>
LOCATION:
CLASS:PUBLIC
END:VEVENT
END:VCALENDAR
