BEGIN:VCALENDAR
VERSION:2.0
PRODID:Park City, UT Calendar Creator
METHOD:PUBLISH
BEGIN:VEVENT
DTSTAMP:20211020T101324
DTSTART:20211021T120000
DTEND:20211021T130000
SUMMARY:Planning Department Administrative Public Hearing
DESCRIPTION:<p><a href="https://www.parkcity.gov/home/showpublisheddocument/70817/637692189983770000" target="_blank">10.21.2021 Legal Notice</a></p><p><a href="https://granicus_production_attachments.s3.amazonaws.com/parkcity/9874945d8a984579a1c13b6ba08e60d80.pdf" target="_blank">10.21.2021 Agenda</a></p><p><a href="https://d3n9y02raazwpg.cloudfront.net/parkcity/06fa4d53-26c4-11ec-88a7-0050569183fa-a3c3bd95-7a61-46ba-b25a-d50b1b86ddcf-1634685331.pdf" target="_blank">10.21.2021 Packet Amended</a></p><p><a href="https://us02web.zoom.us/j/85196226963" target="_blank">ZOOM Meeting Link</a></p><p>Meeting ID:&nbsp;&nbsp;851 9622 6963</p>
X-ALT-DESC;FMTTYPE=text/html:<p><a href="https://www.parkcity.gov/home/showpublisheddocument/70817/637692189983770000" target="_blank">10.21.2021 Legal Notice</a></p><p><a href="https://granicus_production_attachments.s3.amazonaws.com/parkcity/9874945d8a984579a1c13b6ba08e60d80.pdf" target="_blank">10.21.2021 Agenda</a></p><p><a href="https://d3n9y02raazwpg.cloudfront.net/parkcity/06fa4d53-26c4-11ec-88a7-0050569183fa-a3c3bd95-7a61-46ba-b25a-d50b1b86ddcf-1634685331.pdf" target="_blank">10.21.2021 Packet Amended</a></p><p><a href="https://us02web.zoom.us/j/85196226963" target="_blank">ZOOM Meeting Link</a></p><p>Meeting ID:&nbsp;&nbsp;851 9622 6963</p>
LOCATION:
CLASS:PUBLIC
END:VEVENT
END:VCALENDAR
