BEGIN:VCALENDAR
VERSION:2.0
PRODID:Park City, UT Calendar Creator
METHOD:PUBLISH
BEGIN:VEVENT
DTSTAMP:20211011T162351
DTSTART:20181120T120000
DTEND:20181120T130000
SUMMARY:Board of Adjustments
DESCRIPTION:<p><a href="https://www.parkcity.gov/home/showpublisheddocument/70849" target="_blank">BOA Legal Notice</a></p><p><a href="https://www.parkcity.gov/home/showpublisheddocument/70827/637695611472470000" target="_blank">BOA Agenda</a></p><p><a href="https://www.parkcity.gov/home/showpublisheddocument/70835/637695612815700000" target="_blank">BOA Packet</a></p><p><a href="https://www.parkcity.gov/home/showpublisheddocument/70861/637695635365770000" target="_blank">BOA Minutes</a></p>
X-ALT-DESC;FMTTYPE=text/html:<p><a href="https://www.parkcity.gov/home/showpublisheddocument/70849" target="_blank">BOA Legal Notice</a></p><p><a href="https://www.parkcity.gov/home/showpublisheddocument/70827/637695611472470000" target="_blank">BOA Agenda</a></p><p><a href="https://www.parkcity.gov/home/showpublisheddocument/70835/637695612815700000" target="_blank">BOA Packet</a></p><p><a href="https://www.parkcity.gov/home/showpublisheddocument/70861/637695635365770000" target="_blank">BOA Minutes</a></p>
LOCATION:
CLASS:PUBLIC
END:VEVENT
END:VCALENDAR
