BEGIN:VCALENDAR
VERSION:2.0
PRODID:Park City, UT Calendar Creator
METHOD:PUBLISH
BEGIN:VEVENT
DTSTAMP:20211103T112351
DTSTART:20211104T120000
DTEND:20211104T130000
SUMMARY:Planning Department Administrative Public Hearing
DESCRIPTION:<p><a href="https://www.parkcity.gov/home/showpublisheddocument/70913/637707792091100000" target="_blank">11.04.2021 Legal Notice</a></p><p><a href="https://granicus_production_attachments.s3.amazonaws.com/parkcity/e91c423d9a60bd6a3528769f5c67e2170.pdf" target="_blank">11.04.2021 Agenda</a></p><p><a href="https://d3n9y02raazwpg.cloudfront.net/parkcity/eac67916-3665-11ec-88a7-0050569183fa-12052f59-18c8-46b7-82f4-d029adf73a50-1635825921.pdf" target="_blank">&nbsp;</a><a href="https://d3n9y02raazwpg.cloudfront.net/parkcity/eac67916-3665-11ec-88a7-0050569183fa-12052f59-18c8-46b7-82f4-d029adf73a50-1635825921.pdf" target="_blank">11.04.2021 Packet</a></p><p><a href="https://us02web.zoom.us/j/87502408057" target="_blank"></a></p><p><a href="https://us02web.zoom.us/j/87502408057" target="_blank">ZOOM Meeting Link</a></p><p>Meeting ID:&nbsp;&nbsp;875 0240 8057</p>
X-ALT-DESC;FMTTYPE=text/html:<p><a href="https://www.parkcity.gov/home/showpublisheddocument/70913/637707792091100000" target="_blank">11.04.2021 Legal Notice</a></p><p><a href="https://granicus_production_attachments.s3.amazonaws.com/parkcity/e91c423d9a60bd6a3528769f5c67e2170.pdf" target="_blank">11.04.2021 Agenda</a></p><p><a href="https://d3n9y02raazwpg.cloudfront.net/parkcity/eac67916-3665-11ec-88a7-0050569183fa-12052f59-18c8-46b7-82f4-d029adf73a50-1635825921.pdf" target="_blank">&nbsp;</a><a href="https://d3n9y02raazwpg.cloudfront.net/parkcity/eac67916-3665-11ec-88a7-0050569183fa-12052f59-18c8-46b7-82f4-d029adf73a50-1635825921.pdf" target="_blank">11.04.2021 Packet</a></p><p><a href="https://us02web.zoom.us/j/87502408057" target="_blank"></a></p><p><a href="https://us02web.zoom.us/j/87502408057" target="_blank">ZOOM Meeting Link</a></p><p>Meeting ID:&nbsp;&nbsp;875 0240 8057</p>
LOCATION:
CLASS:PUBLIC
END:VEVENT
END:VCALENDAR
