BEGIN:VCALENDAR
VERSION:2.0
PRODID:Park City, UT Calendar Creator
METHOD:PUBLISH
BEGIN:VEVENT
DTSTAMP:20211109T160503
DTSTART:20211111T120000
DTEND:20211111T130000
SUMMARY:Planning Department Administrative Public Hearing
DESCRIPTION:<p><a href="https://www.parkcity.gov/home/showpublisheddocument/71030/637720705649400000" target="_blank">11.11.2021 Legal Notice</a></p><p><a href="https://granicus_production_attachments.s3.amazonaws.com/parkcity/860cb88220a4a4c529ebdd06b0ea78520.pdf" target="_blank">11.11.2021 Agenda</a></p><p><a href="https://d3n9y02raazwpg.cloudfront.net/parkcity/f0be0709-35c1-11ec-88a7-0050569183fa-a3c3bd95-7a61-46ba-b25a-d50b1b86ddcf-1636498722.pdf" target="_blank">11.11.2021 Packet</a></p><p><a href="https://us02web.zoom.us/j/82680813019" target="_blank">Zoom Meeting Link</a></p><p>Meeting ID:&nbsp;&nbsp;876 4473 1090</p>
X-ALT-DESC;FMTTYPE=text/html:<p><a href="https://www.parkcity.gov/home/showpublisheddocument/71030/637720705649400000" target="_blank">11.11.2021 Legal Notice</a></p><p><a href="https://granicus_production_attachments.s3.amazonaws.com/parkcity/860cb88220a4a4c529ebdd06b0ea78520.pdf" target="_blank">11.11.2021 Agenda</a></p><p><a href="https://d3n9y02raazwpg.cloudfront.net/parkcity/f0be0709-35c1-11ec-88a7-0050569183fa-a3c3bd95-7a61-46ba-b25a-d50b1b86ddcf-1636498722.pdf" target="_blank">11.11.2021 Packet</a></p><p><a href="https://us02web.zoom.us/j/82680813019" target="_blank">Zoom Meeting Link</a></p><p>Meeting ID:&nbsp;&nbsp;876 4473 1090</p>
LOCATION:
CLASS:PUBLIC
END:VEVENT
END:VCALENDAR
