BEGIN:VCALENDAR
VERSION:2.0
PRODID:Park City, UT Calendar Creator
METHOD:PUBLISH
BEGIN:VEVENT
DTSTAMP:20211105T091807
DTSTART:20211110T160000
DTEND:20211110T170000
SUMMARY:Planning Commission Site Visit
DESCRIPTION:Founders Place (formerly called Deer Hollow Village) Parcel 00-0021-019
X-ALT-DESC;FMTTYPE=text/html:Founders Place (formerly called Deer Hollow Village) Parcel 00-0021-019
LOCATION:
CLASS:PUBLIC
END:VEVENT
END:VCALENDAR
