BEGIN:VCALENDAR
VERSION:2.0
PRODID:Park City, UT Calendar Creator
METHOD:PUBLISH
BEGIN:VEVENT
DTSTAMP:20211201T114504
DTSTART:20211202T120000
DTEND:20211202T130000
SUMMARY:Administrative Public Hearing
DESCRIPTION:<p><a href="https://www.parkcity.gov/home/showpublisheddocument/71258/637739558975500000" target="_blank">Legal Notice 12.02.2021</a></p><p><a href="https://www.parkcity.org/government/city-council/city-council-meetings/current-public-meeting-info-listen-live" target="_blank">Administrative Public Hearing Agenda and Packet</a></p><p><a href="https://us02web.zoom.us/j/81675479333" target="_blank">Zoom Meeting Link</a></p><p>Meeting ID:&nbsp; 816 7547 9333</p>
X-ALT-DESC;FMTTYPE=text/html:<p><a href="https://www.parkcity.gov/home/showpublisheddocument/71258/637739558975500000" target="_blank">Legal Notice 12.02.2021</a></p><p><a href="https://www.parkcity.org/government/city-council/city-council-meetings/current-public-meeting-info-listen-live" target="_blank">Administrative Public Hearing Agenda and Packet</a></p><p><a href="https://us02web.zoom.us/j/81675479333" target="_blank">Zoom Meeting Link</a></p><p>Meeting ID:&nbsp; 816 7547 9333</p>
LOCATION:
CLASS:PUBLIC
END:VEVENT
END:VCALENDAR
