BEGIN:VCALENDAR
VERSION:2.0
PRODID:Park City, UT Calendar Creator
METHOD:PUBLISH
BEGIN:VEVENT
DTSTAMP:20211119T153745
DTSTART:20211203T130000
DTEND:20211203T143000
SUMMARY:Senior Housing Form
DESCRIPTION:<h2><b>Senior Housing Forum</b></h2><ul>    <li><b>Friday, December 3 at 1:00 p.m. </b></li>    <li><b>Park City Library Community Room (1255 Park Avenue)</b></li></ul><p>Join the&nbsp;Park City Seniors&nbsp;for&nbsp;an open discussion about&nbsp;senior&nbsp;housing in Park City. This is a great opportunity for senior residents to&nbsp;chat with Park City’s Housing Department,&nbsp;share feedback and ask questions about housing options in our community.&nbsp;Please contact Cheryl Soshnik, <a href="mailto:&#112;&#97;&#114;&#107;&#99;&#105;&#116;&#121;&#117;&#116;&#97;&#104;&#115;&#101;&#110;&#105;&#111;&#114;&#115;&#64;&#103;&#109;&#97;&#105;&#108;&#46;&#99;&#111;&#109;">parkcityutahseniors@gmail.com</a>, 435-649-9008.</p><br>
X-ALT-DESC;FMTTYPE=text/html:<h2><b>Senior Housing Forum</b></h2><ul>    <li><b>Friday, December 3 at 1:00 p.m. </b></li>    <li><b>Park City Library Community Room (1255 Park Avenue)</b></li></ul><p>Join the&nbsp;Park City Seniors&nbsp;for&nbsp;an open discussion about&nbsp;senior&nbsp;housing in Park City. This is a great opportunity for senior residents to&nbsp;chat with Park City’s Housing Department,&nbsp;share feedback and ask questions about housing options in our community.&nbsp;Please contact Cheryl Soshnik, <a href="mailto:&#112;&#97;&#114;&#107;&#99;&#105;&#116;&#121;&#117;&#116;&#97;&#104;&#115;&#101;&#110;&#105;&#111;&#114;&#115;&#64;&#103;&#109;&#97;&#105;&#108;&#46;&#99;&#111;&#109;">parkcityutahseniors@gmail.com</a>, 435-649-9008.</p><br>
LOCATION:Library Community Room\, 1255 Park Avenue Park City\, Utah 84060
CLASS:PUBLIC
END:VEVENT
END:VCALENDAR
