BEGIN:VCALENDAR
VERSION:2.0
PRODID:Park City, UT Calendar Creator
METHOD:PUBLISH
BEGIN:VEVENT
DTSTAMP:20211201T113127
DTSTART:20211209T120000
DTEND:20211209T130000
SUMMARY:Administrative Public Hearing
DESCRIPTION:<p><a href="https://www.parkcity.gov/home/showpublisheddocument/71256/637739550270870000" target="_blank">Legal Notice 12.09.2021</a></p><p><a href="https://us02web.zoom.us/j/81938691579" target="_blank">&nbsp;ZOOM Meeting Link</a></p><p>Meeting ID:&nbsp;&nbsp;819 3869 1579</p>
X-ALT-DESC;FMTTYPE=text/html:<p><a href="https://www.parkcity.gov/home/showpublisheddocument/71256/637739550270870000" target="_blank">Legal Notice 12.09.2021</a></p><p><a href="https://us02web.zoom.us/j/81938691579" target="_blank">&nbsp;ZOOM Meeting Link</a></p><p>Meeting ID:&nbsp;&nbsp;819 3869 1579</p>
LOCATION:
CLASS:PUBLIC
END:VEVENT
END:VCALENDAR
