BEGIN:VCALENDAR
VERSION:2.0
PRODID:Park City, UT Calendar Creator
METHOD:PUBLISH
BEGIN:VEVENT
DTSTAMP:20220105T154238
DTSTART:20220602T100000
DTEND:20220602T110000
SUMMARY:Forestry Advisory Board Meeting
DESCRIPTION:
X-ALT-DESC;FMTTYPE=text/html:
LOCATION:
CLASS:PUBLIC
END:VEVENT
END:VCALENDAR
