BEGIN:VCALENDAR
VERSION:2.0
PRODID:Park City, UT Calendar Creator
METHOD:PUBLISH
BEGIN:VEVENT
DTSTAMP:20220617T161732
DTSTART:20220712T170000
DTEND:20220712T180000
SUMMARY:Board of Adjustment
DESCRIPTION:<a href="https://www.parkcity.gov/home/showpublisheddocument/72334/637910794019530000" target="_blank">07.12.2022 Board of Adjustment Legal Notice</a>
X-ALT-DESC;FMTTYPE=text/html:<a href="https://www.parkcity.gov/home/showpublisheddocument/72334/637910794019530000" target="_blank">07.12.2022 Board of Adjustment Legal Notice</a>
LOCATION:
CLASS:PUBLIC
END:VEVENT
END:VCALENDAR
