BEGIN:VCALENDAR
VERSION:2.0
PRODID:Park City, UT Calendar Creator
METHOD:PUBLISH
BEGIN:VEVENT
DTSTAMP:20220708T092458
DTSTART:20220714T120000
DTEND:20220714T130000
SUMMARY:Administrative Public Hearing
DESCRIPTION:<p><a href="https://www.parkcity.gov/home/showpublisheddocument/72386/637921953734870000" target="_blank">07.14.2022 - Legal Notice</a>The Planning Department of Park City, Utah will hold a Public Hearing with an anchor location for<br>public participation at the Marsac Municipal Building, Planning Department Conference Room,<br>445 Marsac Avenue, Park City, Utah 84060 on Thursday, June 14, 2022.</p><p>Members of the public may attend in person or participate electronically. Public comments will<br>also be accepted virtually. To comment virtually, use eComment or raise your hand on Zoom<br>through www.parkcity.org.</p>
X-ALT-DESC;FMTTYPE=text/html:<p><a href="https://www.parkcity.gov/home/showpublisheddocument/72386/637921953734870000" target="_blank">07.14.2022 - Legal Notice</a>The Planning Department of Park City, Utah will hold a Public Hearing with an anchor location for<br>public participation at the Marsac Municipal Building, Planning Department Conference Room,<br>445 Marsac Avenue, Park City, Utah 84060 on Thursday, June 14, 2022.</p><p>Members of the public may attend in person or participate electronically. Public comments will<br>also be accepted virtually. To comment virtually, use eComment or raise your hand on Zoom<br>through www.parkcity.org.</p>
LOCATION:
CLASS:PUBLIC
END:VEVENT
END:VCALENDAR
