BEGIN:VCALENDAR
VERSION:2.0
PRODID:Park City, UT Calendar Creator
METHOD:PUBLISH
BEGIN:VEVENT
DTSTAMP:20220906T144905
DTSTART:20220928T090000
DTEND:20220928T130000
SUMMARY:Be Ready Park City: Community Evacuation Exercise
DESCRIPTION:<p direction-ltr="" align-start="" para-style-body"=""><h2 direction-ltr="" align-start="">Community Evacuation Exercise </h2></p><h4 direction-ltr="" align-start="">Wednesday, September 28, 9:00 a.m.-1:00 p.m. </h4><p>As part of our ongoing wildfire preparedness program, the City is leading a full-scale wildfire evacuation exercise. We invite you to participate!</p><p direction-ltr="" align-start="" para-style-body"="">The exercise will begin at lower Deer Valley, with transit buses and participant vehicles staged in a simulated intermediate ‘safety zone.’ Participants will then be routed to a selected evacuation point outside the City.</p><p direction-ltr="" align-start="" para-style-body"="">Community participation is encouraged for residents to actively consider personal emergency plans, logistics, roles, and possible scenarios should an evacuation be required.</p><p direction-ltr="" align-start="" para-style-body"="">Register by September 15 to participate: <a href="https://www.parkcity.org/government/emergency-management/be-ready-park-city" target="_blank">bereadyparkcity.org</a></p><br>
X-ALT-DESC;FMTTYPE=text/html:<p direction-ltr="" align-start="" para-style-body"=""><h2 direction-ltr="" align-start="">Community Evacuation Exercise </h2></p><h4 direction-ltr="" align-start="">Wednesday, September 28, 9:00 a.m.-1:00 p.m. </h4><p>As part of our ongoing wildfire preparedness program, the City is leading a full-scale wildfire evacuation exercise. We invite you to participate!</p><p direction-ltr="" align-start="" para-style-body"="">The exercise will begin at lower Deer Valley, with transit buses and participant vehicles staged in a simulated intermediate ‘safety zone.’ Participants will then be routed to a selected evacuation point outside the City.</p><p direction-ltr="" align-start="" para-style-body"="">Community participation is encouraged for residents to actively consider personal emergency plans, logistics, roles, and possible scenarios should an evacuation be required.</p><p direction-ltr="" align-start="" para-style-body"="">Register by September 15 to participate: <a href="https://www.parkcity.org/government/emergency-management/be-ready-park-city" target="_blank">bereadyparkcity.org</a></p><br>
LOCATION:
CLASS:PUBLIC
END:VEVENT
END:VCALENDAR
