BEGIN:VCALENDAR
VERSION:2.0
PRODID:Park City, UT Calendar Creator
METHOD:PUBLISH
BEGIN:VEVENT
DTSTAMP:20220912T132250
DTSTART:20220913T090000
DTEND:20220913T130000
SUMMARY:Drone Operation
DESCRIPTION:These flights are for the Water Department. They are measuring stormwater at these locations.
X-ALT-DESC;FMTTYPE=text/html:These flights are for the Water Department. They are measuring stormwater at these locations.
LOCATION:
CLASS:PUBLIC
END:VEVENT
END:VCALENDAR
