BEGIN:VCALENDAR
VERSION:2.0
PRODID:Park City, UT Calendar Creator
METHOD:PUBLISH
BEGIN:VEVENT
DTSTAMP:20220916T112329
DTSTART:20220920T183000
DTEND:20220920T200000
SUMMARY:Community Conversation Series - Utah Olympic Bid Zoom Meeting
DESCRIPTION:<p>Mountain Mediation Center, in partnership with Park City Municipal and Summit County, invites the public to join their next Community Conversation Series - The Utah Olympic Bid: A Summit County Listening Project. Participants will have the opportunity to share their hopes and concerns about how a Winter Olympics in Summit County would affect our communities. This meeting will be held online via Zoom, RSVP <a href="https://t.e2ma.net/click/w0heli/kfhi3sv/cpfh24">here</a>.</p>
X-ALT-DESC;FMTTYPE=text/html:<p>Mountain Mediation Center, in partnership with Park City Municipal and Summit County, invites the public to join their next Community Conversation Series - The Utah Olympic Bid: A Summit County Listening Project. Participants will have the opportunity to share their hopes and concerns about how a Winter Olympics in Summit County would affect our communities. This meeting will be held online via Zoom, RSVP <a href="https://t.e2ma.net/click/w0heli/kfhi3sv/cpfh24">here</a>.</p>
LOCATION:
CLASS:PUBLIC
END:VEVENT
END:VCALENDAR
