BEGIN:VCALENDAR
VERSION:2.0
PRODID:Park City, UT Calendar Creator
METHOD:PUBLISH
BEGIN:VEVENT
DTSTAMP:20220920T164747
DTSTART:20221004T170000
DTEND:20221004T183000
SUMMARY:Fall Projects and Programs Open House
DESCRIPTION:<p align="center" style="text-align: left;">Park City Municipal invites the community to learn more about City projects at their Fall Projects Open House on Tuesday,&nbsp;<span style="text-align: left;">October 4, from 5:00 to 6:30 p.m. on the patio of the Park City Library.</span></p><p style="text-align: left;">The event will feature team members from various City departments presenting and taking feedback on the City’s current, ongoing, and future projects. Residents can expect to get updates on City planning initiatives, construction of 3Kings Water Treatment Facility, the Homestake affordable housing project, the City’s Neighborhoods First initiative, winter transit &amp; parking plans, and more.</p><p><b>WHAT:&nbsp;</b>Fall Projects Open House&nbsp;&nbsp;</p><p><b>WHO:&nbsp;</b>City teams will present community members with project updates across the municipality.&nbsp;</p><p><b>WHEN:&nbsp;</b>Tuesday, October 4, 2022, 5:00 p.m.- 6:30 p.m.&nbsp; &nbsp; &nbsp; &nbsp; &nbsp;&nbsp;</p><p><b>WHERE</b>: Park City Library Patio&nbsp;</p>
X-ALT-DESC;FMTTYPE=text/html:<p align="center" style="text-align: left;">Park City Municipal invites the community to learn more about City projects at their Fall Projects Open House on Tuesday,&nbsp;<span style="text-align: left;">October 4, from 5:00 to 6:30 p.m. on the patio of the Park City Library.</span></p><p style="text-align: left;">The event will feature team members from various City departments presenting and taking feedback on the City’s current, ongoing, and future projects. Residents can expect to get updates on City planning initiatives, construction of 3Kings Water Treatment Facility, the Homestake affordable housing project, the City’s Neighborhoods First initiative, winter transit &amp; parking plans, and more.</p><p><b>WHAT:&nbsp;</b>Fall Projects Open House&nbsp;&nbsp;</p><p><b>WHO:&nbsp;</b>City teams will present community members with project updates across the municipality.&nbsp;</p><p><b>WHEN:&nbsp;</b>Tuesday, October 4, 2022, 5:00 p.m.- 6:30 p.m.&nbsp; &nbsp; &nbsp; &nbsp; &nbsp;&nbsp;</p><p><b>WHERE</b>: Park City Library Patio&nbsp;</p>
LOCATION:Park City Library\, 1255 Park Avenue Park City\, Utah 84060
CLASS:PUBLIC
END:VEVENT
END:VCALENDAR
