BEGIN:VCALENDAR
VERSION:2.0
PRODID:Park City, UT Calendar Creator
METHOD:PUBLISH
BEGIN:VEVENT
DTSTAMP:20221018T124614
DTSTART:20221025T180000
DTEND:20221025T193000
SUMMARY:Living With Wildfire Series – Using Fire to Fight Fire: Prescribed Fire and Smoke Management
DESCRIPTION:<div ltr="" scxw5367820="" bcx9"=""><p scxw5367820="" bcx9"=""><h2 scxw5367820="">Living With Wildfire Series – Using Fire to Fight Fire: Prescribed Fire and Smoke Management&nbsp;</h2></p></div><div ltr="" scxw5367820="" bcx9"=""><p scxw5367820="" bcx9"="">Tuesday, October 25 | 6:00-7:30 p.m. | City Hall Council Chambers (445 Marsac Avenue) and <a scxw5367820="" bcx9"="" href="https://us02web.zoom.us/j/89088630426?pwd=RWU1aWVubE1Rb2NBQ3NMWUVhWVR2dz09" target="_blank" rel="noreferrer noopener">Zoom</a>&nbsp;</p></div><div ltr="" scxw5367820="" bcx9"=""><p scxw5367820="" bcx9"="">What role does fire have in our local landscape? How do controlled burns protect our community from destruction by fire? What are the keys to wildfire prevention? Join us for a community event where you can learn the answers to these questions (among others!) and hear from area professionals in wildfire ecology, wildlife biology, air quality, and more.&nbsp;</p><p scxw5367820="" bcx9"="">Questions? Please contact <a href="mailto:&#108;&#111;&#103;&#97;&#110;&#46;&#106;&#111;&#110;&#101;&#115;&#64;&#112;&#97;&#114;&#107;&#99;&#105;&#116;&#121;&#46;&#111;&#114;&#103;">logan.jones@parkcity.org</a>. </p></div><br>
X-ALT-DESC;FMTTYPE=text/html:<div ltr="" scxw5367820="" bcx9"=""><p scxw5367820="" bcx9"=""><h2 scxw5367820="">Living With Wildfire Series – Using Fire to Fight Fire: Prescribed Fire and Smoke Management&nbsp;</h2></p></div><div ltr="" scxw5367820="" bcx9"=""><p scxw5367820="" bcx9"="">Tuesday, October 25 | 6:00-7:30 p.m. | City Hall Council Chambers (445 Marsac Avenue) and <a scxw5367820="" bcx9"="" href="https://us02web.zoom.us/j/89088630426?pwd=RWU1aWVubE1Rb2NBQ3NMWUVhWVR2dz09" target="_blank" rel="noreferrer noopener">Zoom</a>&nbsp;</p></div><div ltr="" scxw5367820="" bcx9"=""><p scxw5367820="" bcx9"="">What role does fire have in our local landscape? How do controlled burns protect our community from destruction by fire? What are the keys to wildfire prevention? Join us for a community event where you can learn the answers to these questions (among others!) and hear from area professionals in wildfire ecology, wildlife biology, air quality, and more.&nbsp;</p><p scxw5367820="" bcx9"="">Questions? Please contact <a href="mailto:&#108;&#111;&#103;&#97;&#110;&#46;&#106;&#111;&#110;&#101;&#115;&#64;&#112;&#97;&#114;&#107;&#99;&#105;&#116;&#121;&#46;&#111;&#114;&#103;">logan.jones@parkcity.org</a>. </p></div><br>
LOCATION:City Council Chambers\, 445 Marsac Ave Park City\, Utah 84060
CLASS:PUBLIC
END:VEVENT
END:VCALENDAR
