BEGIN:VCALENDAR
VERSION:2.0
PRODID:Park City, UT Calendar Creator
METHOD:PUBLISH
BEGIN:VEVENT
DTSTAMP:20221218T143830
DTSTART:20221219T173000
DTEND:20221219T203000
SUMMARY:Planning Commission - Special Meeting
DESCRIPTION:<p><span style="background-color: rgb(255, 255, 0);"><font class="subtitle"><strong>PLANNING COMMISSION MEETING LOCATION:&nbsp;</strong></font></span><strong style="color: rgb(65, 67, 74); font-size: 25px; background-color: rgb(255, 255, 0);">The Prospector Lodge and Convention Center, 2175 Sidewinder Drive, Park City, Utah</strong></p><p>Members of the public are encouraged to attend in person or online. Parking is limited, please consider transit, carpool, or walking when possible. Deer Valley will provide complimentary shuttle service from the north end of Snow Park parking lot 6 (closest to the ponds) at 5:00 p.m. and return service directly following the meeting.</p><p> You can also attend virtually through this <a href="https://us02web.zoom.us/j/81834369207" target="_blank">MEETING LINK</a>.</p><p><b><a href="https://www.parkcity.org/government/city-council/city-council-meetings/current-public-meeting-info-listen-live" target="_blank">Public Meeting &amp; Listen Live</a></b></p><p><b><a href="https://www.parkcity.gov/home/showpublisheddocument/72973/638055956861170000" target="_blank">Meeting Notice</a>&nbsp;- ADDRESS CHANGED TO 2175 SIDEWINDER DRIVE, PARK CITY, UTAH</b></p><p><b><a href="https://d3n9y02raazwpg.cloudfront.net/parkcity/fb9b09a8-61dd-11ed-95a3-0050569183fa-2fa5618d-54f3-4e3c-b330-cdc5a055bdc7-1671087032.pdf" target="_blank">Meeting Agenda Packet</a></b></p><p>Planning Commission Meetings - How to Watch, Listen, and Submit Public Comment Virtually:</p><ul type="disc">    <li>Listen | Watch | Submit&nbsp;eComment: Details below (Watch and Listen Live link is activated at the start of the meeting<i>)<br>    *Advance&nbsp;eComment registration&nbsp;required. Once registered, you should receive a confirmation email. Using Firefox or Microsoft Edge browsers to register is recommended.<br>    <br>    </i></li>    <li>Listen | Watch | Comment:&nbsp;Zoom Webinar&nbsp;<b><a href="https://us02web.zoom.us/j/87087333912">HERE</a></b><br>    Meeting ID:&nbsp;&nbsp;870 8733 3912</li></ul><p>To comment virtually on Zoom - log in using the Zoom application and raise your hand.&nbsp; Written comments submitted before or during the meeting will be entered into the public record, but not read aloud.&nbsp;<b>Viewers who wish to provide public comment must sign in using their full names.&nbsp;Anonymous comments will not be accepted.</b></p><p>Please contact&nbsp;<a href="mailto:&#106;&#101;&#115;&#115;&#105;&#99;&#97;&#46;&#110;&#101;&#108;&#115;&#111;&#110;&#64;&#112;&#97;&#114;&#107;&#99;&#105;&#116;&#121;&#46;&#111;&#114;&#103;">planning@parkcity.org</a>&nbsp;for more information.</p><p>For assistance with accessing the Zoom Webinar, please contact&nbsp;<a href="mailto:&#108;&#105;&#110;&#100;&#97;&#46;&#106;&#97;&#103;&#101;&#114;&#64;&#112;&#97;&#114;&#107;&#99;&#105;&#116;&#121;&#46;&#111;&#114;&#103;">linda.jager@parkcity.org</a>&nbsp;| 435.901.2311</p>
X-ALT-DESC;FMTTYPE=text/html:<p><span style="background-color: rgb(255, 255, 0);"><font class="subtitle"><strong>PLANNING COMMISSION MEETING LOCATION:&nbsp;</strong></font></span><strong style="color: rgb(65, 67, 74); font-size: 25px; background-color: rgb(255, 255, 0);">The Prospector Lodge and Convention Center, 2175 Sidewinder Drive, Park City, Utah</strong></p><p>Members of the public are encouraged to attend in person or online. Parking is limited, please consider transit, carpool, or walking when possible. Deer Valley will provide complimentary shuttle service from the north end of Snow Park parking lot 6 (closest to the ponds) at 5:00 p.m. and return service directly following the meeting.</p><p> You can also attend virtually through this <a href="https://us02web.zoom.us/j/81834369207" target="_blank">MEETING LINK</a>.</p><p><b><a href="https://www.parkcity.org/government/city-council/city-council-meetings/current-public-meeting-info-listen-live" target="_blank">Public Meeting &amp; Listen Live</a></b></p><p><b><a href="https://www.parkcity.gov/home/showpublisheddocument/72973/638055956861170000" target="_blank">Meeting Notice</a>&nbsp;- ADDRESS CHANGED TO 2175 SIDEWINDER DRIVE, PARK CITY, UTAH</b></p><p><b><a href="https://d3n9y02raazwpg.cloudfront.net/parkcity/fb9b09a8-61dd-11ed-95a3-0050569183fa-2fa5618d-54f3-4e3c-b330-cdc5a055bdc7-1671087032.pdf" target="_blank">Meeting Agenda Packet</a></b></p><p>Planning Commission Meetings - How to Watch, Listen, and Submit Public Comment Virtually:</p><ul type="disc">    <li>Listen | Watch | Submit&nbsp;eComment: Details below (Watch and Listen Live link is activated at the start of the meeting<i>)<br>    *Advance&nbsp;eComment registration&nbsp;required. Once registered, you should receive a confirmation email. Using Firefox or Microsoft Edge browsers to register is recommended.<br>    <br>    </i></li>    <li>Listen | Watch | Comment:&nbsp;Zoom Webinar&nbsp;<b><a href="https://us02web.zoom.us/j/87087333912">HERE</a></b><br>    Meeting ID:&nbsp;&nbsp;870 8733 3912</li></ul><p>To comment virtually on Zoom - log in using the Zoom application and raise your hand.&nbsp; Written comments submitted before or during the meeting will be entered into the public record, but not read aloud.&nbsp;<b>Viewers who wish to provide public comment must sign in using their full names.&nbsp;Anonymous comments will not be accepted.</b></p><p>Please contact&nbsp;<a href="mailto:&#106;&#101;&#115;&#115;&#105;&#99;&#97;&#46;&#110;&#101;&#108;&#115;&#111;&#110;&#64;&#112;&#97;&#114;&#107;&#99;&#105;&#116;&#121;&#46;&#111;&#114;&#103;">planning@parkcity.org</a>&nbsp;for more information.</p><p>For assistance with accessing the Zoom Webinar, please contact&nbsp;<a href="mailto:&#108;&#105;&#110;&#100;&#97;&#46;&#106;&#97;&#103;&#101;&#114;&#64;&#112;&#97;&#114;&#107;&#99;&#105;&#116;&#121;&#46;&#111;&#114;&#103;">linda.jager@parkcity.org</a>&nbsp;| 435.901.2311</p>
LOCATION:
CLASS:PUBLIC
END:VEVENT
END:VCALENDAR
