BEGIN:VCALENDAR
VERSION:2.0
PRODID:Park City, UT Calendar Creator
METHOD:PUBLISH
BEGIN:VEVENT
DTSTAMP:20221122T165528
DTSTART:20221205T160000
DTEND:20221205T180000
SUMMARY:Public Information Session: Lower Park Avenue Improvements
DESCRIPTION:<div ltr="" scxw225832690="" bcx9"=""><p scxw225832690="" bcx9"="" paraid="178888906" paraeid="{c481c6f6-3dc7-4fc9-be63-cb2d471b33ea}{202}">Thank you to all those who participated in our survey about the future of Lower Park Avenue! Stop by Lucky Ones Coffee in the Park City Library on Monday, December 5, between 4:00-6:00 p.m. to grab a warm beverage, take a look at the survey results, and chat with the team about next steps.</p><p scxw225832690="" bcx9"="" paraid="178888906" paraeid="{c481c6f6-3dc7-4fc9-be63-cb2d471b33ea}{202}">Please note, this is a public drop-in session and there will not be a formal presentation.</p><p scxw225832690="" bcx9"="" paraid="178888906" paraeid="{c481c6f6-3dc7-4fc9-be63-cb2d471b33ea}{202}">&nbsp;Check out <a scxw225832690="" bcx9"="" href="https://engageparkcity.org/lower-park-avenue-improvement-project" target="_blank" rel="noreferrer noopener">https://engageparkcity.org/lower-park-avenue-improvement-project</a> for more project information.</p></div>
X-ALT-DESC;FMTTYPE=text/html:<div ltr="" scxw225832690="" bcx9"=""><p scxw225832690="" bcx9"="" paraid="178888906" paraeid="{c481c6f6-3dc7-4fc9-be63-cb2d471b33ea}{202}">Thank you to all those who participated in our survey about the future of Lower Park Avenue! Stop by Lucky Ones Coffee in the Park City Library on Monday, December 5, between 4:00-6:00 p.m. to grab a warm beverage, take a look at the survey results, and chat with the team about next steps.</p><p scxw225832690="" bcx9"="" paraid="178888906" paraeid="{c481c6f6-3dc7-4fc9-be63-cb2d471b33ea}{202}">Please note, this is a public drop-in session and there will not be a formal presentation.</p><p scxw225832690="" bcx9"="" paraid="178888906" paraeid="{c481c6f6-3dc7-4fc9-be63-cb2d471b33ea}{202}">&nbsp;Check out <a scxw225832690="" bcx9"="" href="https://engageparkcity.org/lower-park-avenue-improvement-project" target="_blank" rel="noreferrer noopener">https://engageparkcity.org/lower-park-avenue-improvement-project</a> for more project information.</p></div>
LOCATION:Lucky Ones Coffee at the Park City Library\, 1255 Park Avenue Park City\, Utah 84060
CLASS:PUBLIC
END:VEVENT
END:VCALENDAR
